BEGIN:VCALENDAR
VERSION:2.0
PRODID:-//The Pearl - ECPv6.15.20//NONSGML v1.0//EN
CALSCALE:GREGORIAN
METHOD:PUBLISH
X-ORIGINAL-URL:https://thepearlonwilshire.com
X-WR-CALDESC:Events for The Pearl
REFRESH-INTERVAL;VALUE=DURATION:PT1H
X-Robots-Tag:noindex
X-PUBLISHED-TTL:PT1H
BEGIN:VTIMEZONE
TZID:UTC
BEGIN:STANDARD
TZOFFSETFROM:+0000
TZOFFSETTO:+0000
TZNAME:UTC
DTSTART:20230101T000000
END:STANDARD
END:VTIMEZONE
BEGIN:VEVENT
DTSTART;TZID=UTC:20240425T190000
DTEND;TZID=UTC:20240425T200000
DTSTAMP:20260426T014004
CREATED:20220816T214232Z
LAST-MODIFIED:20220816T214232Z
UID:8415-1714071600-1714075200@thepearlonwilshire.com
SUMMARY:Spin & Stretch Cycling
DESCRIPTION:
URL:https://thepearlonwilshire.com/community-event/spin-stretch-cycling/2024-04-25/
LOCATION:CA
END:VEVENT
BEGIN:VEVENT
DTSTART;TZID=UTC:20240427T100000
DTEND;TZID=UTC:20240427T110000
DTSTAMP:20260426T014004
CREATED:20220816T215153Z
LAST-MODIFIED:20220816T231805Z
UID:6667-1714212000-1714215600@thepearlonwilshire.com
SUMMARY:HIIT Fitness Bootcamp
DESCRIPTION:
URL:https://thepearlonwilshire.com/community-event/hiit-fitness-bootcamp/2024-04-27/
LOCATION:CA
END:VEVENT
BEGIN:VEVENT
DTSTART;TZID=UTC:20240429T190000
DTEND;TZID=UTC:20240429T200000
DTSTAMP:20260426T014004
CREATED:20220816T215017Z
LAST-MODIFIED:20230724T205435Z
UID:8205-1714417200-1714420800@thepearlonwilshire.com
SUMMARY:Rebound HIIT Trampoline Class
DESCRIPTION:
URL:https://thepearlonwilshire.com/community-event/rebound-hiit-trampoline-class/2024-04-29/
LOCATION:CA
END:VEVENT
END:VCALENDAR